BEGIN:VCALENDAR
VERSION:2.0
PRODID:-//Squarespace Inc/Squarespace 6//v6//EN
BEGIN:VEVENT
UID:60011d533fbed3760cf94041@squarespace.com
DTSTAMP:20210223T091646Z
DTSTART:20210614T060000Z
DTEND:20211018T060000Z
SUMMARY:Booked Out 
GEO:-33.758795;151.299277
LOCATION:Sydney\, Australia
END:VEVENT
END:VCALENDAR
