BEGIN:VCALENDAR
VERSION:2.0
PRODID:-//Squarespace Inc/Squarespace 6//v6//EN
BEGIN:VEVENT
UID:5f3b51396b4548107077beaf@squarespace.com
DTSTAMP:20200818T035632Z
DTSTART:20200913T200000Z
DTEND:20200921T000000Z
SUMMARY:Booked out
END:VEVENT
END:VCALENDAR
