BEGIN:VCALENDAR
VERSION:2.0
PRODID:-//Squarespace Inc/Squarespace 6//v6//EN
BEGIN:VEVENT
UID:5f51cd96f8c7ac594873799d@squarespace.com
DTSTAMP:20200904T051705Z
DTSTART:20210319T043000Z
DTEND:20210323T053000Z
SUMMARY:Booked out
END:VEVENT
END:VCALENDAR
