BEGIN:VCALENDAR
VERSION:2.0
PRODID:-//Squarespace Inc/Squarespace 6//v6//EN
BEGIN:VEVENT
UID:60011e02281f270ab9873e73@squarespace.com
DTSTAMP:20210115T044751Z
DTSTART:20210121T050000Z
DTEND:20210129T060000Z
SUMMARY:Booked Out
GEO:-33.758795;151.299277
LOCATION:Sydney\, Australia
END:VEVENT
END:VCALENDAR
