BEGIN:VCALENDAR
VERSION:2.0
PRODID:-//Squarespace Inc/Squarespace 6//v6//EN
BEGIN:VEVENT
UID:5efe8e1d4c0f85227cc62031@squarespace.com
DTSTAMP:20200703T014732Z
DTSTART:20201022T190000Z
DTEND:20201023T080000Z
SUMMARY:Booked out
END:VEVENT
END:VCALENDAR
