BEGIN:VCALENDAR
VERSION:2.0
PRODID:-//Squarespace Inc/Squarespace 6//v6//EN
BEGIN:VEVENT
UID:5efe8e4537b0344cd5ea2b7e@squarespace.com
DTSTAMP:20200703T021410Z
DTSTART:20201024T190000Z
DTEND:20201026T080000Z
SUMMARY:Booked out
END:VEVENT
END:VCALENDAR
