BEGIN:VCALENDAR
VERSION:2.0
PRODID:-//Squarespace Inc/Squarespace 6//v6//EN
BEGIN:VEVENT
UID:5efc1cd371fbc870d4b1f3f3@squarespace.com
DTSTAMP:20200703T014831Z
DTSTART:20201023T190000Z
DTEND:20201024T080000Z
SUMMARY:Booked out
END:VEVENT
END:VCALENDAR
