BEGIN:VCALENDAR
VERSION:2.0
PRODID:-//Squarespace Inc/Squarespace 6//v6//EN
BEGIN:VEVENT
UID:5efe8ea46f950106f2705320@squarespace.com
DTSTAMP:20200906T035036Z
DTSTART:20201103T190000Z
DTEND:20201125T080000Z
SUMMARY:Booked out
END:VEVENT
END:VCALENDAR
