BEGIN:VCALENDAR
VERSION:2.0
PRODID:-//Squarespace Inc/Squarespace 6//v6//EN
BEGIN:VEVENT
UID:5fea84f09dff657eec1b19bb@squarespace.com
DTSTAMP:20201229T012402Z
DTSTART:20210104T213000Z
DTEND:20210112T030000Z
SUMMARY:Booked out
GEO:-33.758795;151.299277
LOCATION:Sydney\, Australia
END:VEVENT
END:VCALENDAR
