BEGIN:VCALENDAR
VERSION:2.0
PRODID:-//Squarespace Inc/Squarespace 6//v6//EN
BEGIN:VEVENT
UID:5efe8ed9a09c523cbf93ab44@squarespace.com
DTSTAMP:20200703T015215Z
DTSTART:20201104T190000Z
DTEND:20201105T080000Z
SUMMARY:Booked out
END:VEVENT
END:VCALENDAR
