BEGIN:VCALENDAR
VERSION:2.0
PRODID:-//Squarespace Inc/Squarespace 6//v6//EN
BEGIN:VEVENT
UID:5f51ccff050a2210aa312a46@squarespace.com
DTSTAMP:20200904T051414Z
DTSTART:20210305T043000Z
DTEND:20210308T053000Z
SUMMARY:Booked out
END:VEVENT
END:VCALENDAR
