BEGIN:VCALENDAR
VERSION:2.0
PRODID:-//Squarespace Inc/Squarespace 6//v6//EN
BEGIN:VEVENT
UID:5efe8f269e6f9f60434cfc17@squarespace.com
DTSTAMP:20200703T015158Z
DTSTART:20201105T190000Z
DTEND:20201106T080000Z
SUMMARY:Booked out
END:VEVENT
END:VCALENDAR
