BEGIN:VCALENDAR
VERSION:2.0
PRODID:-//Squarespace Inc/Squarespace 6//v6//EN
BEGIN:VEVENT
UID:5efe8efe9def0e5129a315f7@squarespace.com
DTSTAMP:20200703T021920Z
DTSTART:20201106T190000Z
DTEND:20201116T080000Z
SUMMARY:Booked out
END:VEVENT
END:VCALENDAR
