BEGIN:VCALENDAR
VERSION:2.0
PRODID:-//Squarespace Inc/Squarespace 6//v6//EN
BEGIN:VEVENT
UID:5efe90efc5fd721ee502af2e@squarespace.com
DTSTAMP:20201217T024015Z
DTSTART:20210202T190000Z
DTEND:20210216T080000Z
SUMMARY:Booked out
END:VEVENT
END:VCALENDAR
