BEGIN:VCALENDAR
VERSION:2.0
PRODID:-//Squarespace Inc/Squarespace 6//v6//EN
BEGIN:VEVENT
UID:5efe90cb3930f0206b8ee6c4@squarespace.com
DTSTAMP:20200703T015903Z
DTSTART:20210208T190000Z
DTEND:20210209T080000Z
SUMMARY:Booked out
END:VEVENT
END:VCALENDAR
