BEGIN:VCALENDAR
VERSION:2.0
PRODID:-//Squarespace Inc/Squarespace 6//v6//EN
BEGIN:VEVENT
UID:60011be7814e9333b8714d17@squarespace.com
DTSTAMP:20210115T043840Z
DTSTART:20220101T050000Z
DTEND:20231231T070000Z
SUMMARY:Bookings Not Open Yet
GEO:-33.758795;151.299277
LOCATION:Sydney\, Australia
END:VEVENT
END:VCALENDAR
